BEGIN:VCALENDAR
VERSION:2.0
PRODID:https://www.mac-lyon.com
BEGIN:VEVENT
UID:69ebd8f9558dc
DTSTART:20110615T153000Z
SEQUENCE:0
TRANSP:OPAQUE
DTEND:20110615T170000Z
LOCATION:Au musée\n
SUMMARY:La pensée en marche
CLASS:PUBLIC
DTSTAMP:20260424T205625Z
END:VEVENT
END:VCALENDAR