BEGIN:VCALENDAR
VERSION:2.0
PRODID:https://www.mac-lyon.com
BEGIN:VEVENT
UID:69ebd8805e10c
DTSTART:20110224T180000Z
SEQUENCE:0
TRANSP:OPAQUE
DTEND:20110224T200000Z
LOCATION:En salle de conférences\n
SUMMARY:Bose Krishnamachari 
CLASS:PUBLIC
DTSTAMP:20260424T205424Z
END:VEVENT
END:VCALENDAR