BEGIN:VCALENDAR
VERSION:2.0
PRODID:https://www.mac-lyon.com
BEGIN:VEVENT
UID:69e73c046fed4
DTSTART:20110915T070000Z
SEQUENCE:0
TRANSP:OPAQUE
DTEND:20111113T170000Z
LOCATION:A l'Institut d'art contemporain\nVilleurbanne\n
SUMMARY:Rendez-vous 11
CLASS:PUBLIC
DTSTAMP:20260421T085740Z
END:VEVENT
END:VCALENDAR