BEGIN:VCALENDAR
VERSION:2.0
PRODID:https://www.mac-lyon.com
BEGIN:VEVENT
UID:69e4e2c964c89
DTSTART:20111110T180000Z
SEQUENCE:0
TRANSP:OPAQUE
DTEND:20111110T200000Z
LOCATION:&nbsp\;\n\nInstitut d'art contemporain\n
SUMMARY:Table ronde sur les biennales
CLASS:PUBLIC
DTSTAMP:20260419T141225Z
END:VEVENT
END:VCALENDAR