BEGIN:VCALENDAR
VERSION:2.0
PRODID:https://www.mac-lyon.com
BEGIN:VEVENT
UID:69e86faf9fed3
DTSTART:20080222T100000Z
SEQUENCE:0
TRANSP:OPAQUE
DTEND:20080713T170000Z
LOCATION:Au musée d'art contemporain\n
SUMMARY:Keith Haring
CLASS:PUBLIC
DTSTAMP:20260422T065023Z
END:VEVENT
END:VCALENDAR