BEGIN:VCALENDAR
VERSION:2.0
PRODID:https://www.mac-lyon.com
BEGIN:VEVENT
UID:69e53e8de3396
DTSTART:20090213T100000Z
SEQUENCE:0
TRANSP:OPAQUE
DTEND:20090419T160000Z
LOCATION:Au musée d'art contemporain\n
SUMMARY:N'importe quoi
CLASS:PUBLIC
DTSTAMP:20260419T204357Z
END:VEVENT
END:VCALENDAR