BEGIN:VCALENDAR
VERSION:2.0
PRODID:https://www.mac-lyon.com
BEGIN:VEVENT
UID:69e88307538dd
DTSTART:20090509T070000Z
SEQUENCE:0
TRANSP:OPAQUE
DTEND:20090913T160000Z
LOCATION:&nbsp\;\n\nAu BAM\nAux Anciens Abattoirs\nMons\nBelgique\n
SUMMARY:Keith Haring à Mons
CLASS:PUBLIC
DTSTAMP:20260422T081255Z
END:VEVENT
END:VCALENDAR