BEGIN:VCALENDAR
VERSION:2.0
PRODID:https://www.mac-lyon.com
BEGIN:VEVENT
UID:69e7cc638aaab
DTSTART:20060924T070000Z
SEQUENCE:0
TRANSP:OPAQUE
DTEND:20061231T170000Z
LOCATION:&nbsp\;\n\nMusée d'art contemporain\n
SUMMARY:La Région humaine
CLASS:PUBLIC
DTSTAMP:20260421T191339Z
END:VEVENT
END:VCALENDAR