BEGIN:VCALENDAR
VERSION:2.0
PRODID:https://www.mac-lyon.com
BEGIN:VEVENT
UID:69e54c82ac4be
DTSTART:20080411T070000Z
SEQUENCE:0
TRANSP:OPAQUE
DTEND:20080525T160000Z
LOCATION:&nbsp\;\n\nMonnaie de Paris \n\n&nbsp\;\n
SUMMARY:The Freak Show à la Monnaie de Paris
CLASS:PUBLIC
DTSTAMP:20260419T214330Z
END:VEVENT
END:VCALENDAR