BEGIN:VCALENDAR
VERSION:2.0
PRODID:https://www.mac-lyon.com
BEGIN:VEVENT
UID:69e73a2450e22
DTSTART:20210915T090000Z
SEQUENCE:0
TRANSP:OPAQUE
DTEND:20220102T170000Z
LOCATION:Au Musée d'art contemporain de Lyon\n
SUMMARY:Marina Abramovic & Ulay
CLASS:PUBLIC
DTSTAMP:20260421T084940Z
END:VEVENT
END:VCALENDAR