BEGIN:VCALENDAR
VERSION:2.0
PRODID:https://www.mac-lyon.com
BEGIN:VEVENT
UID:69e6344ac17f6
DTSTART:20211013T170000Z
SEQUENCE:0
TRANSP:OPAQUE
DTEND:20211013T183000Z
LOCATION:En salle de conférence\n
SUMMARY:Frédéric Martel : \"Le Soft Power\" et \"La bataille des contenus
 \" 
CLASS:PUBLIC
DTSTAMP:20260420T141226Z
END:VEVENT
END:VCALENDAR