BEGIN:VCALENDAR
VERSION:2.0
PRODID:https://www.mac-lyon.com
BEGIN:VEVENT
UID:69e8043410fc1
DTSTART:20190216T130000Z
SEQUENCE:0
TRANSP:OPAQUE
DTEND:20190216T180000Z
LOCATION:&nbsp\;\n\nProjections et table ronde au cinéma UGC Ciné-Cité I
 nternationale&nbsp\;(à côté du musée)\n\n&nbsp\;\n\nConcert au MAC Lyo
 n\n
SUMMARY:Culture hip-hop #1
CLASS:PUBLIC
DTSTAMP:20260421T231148Z
END:VEVENT
END:VCALENDAR