BEGIN:VCALENDAR
VERSION:2.0
PRODID:https://www.mac-lyon.com
BEGIN:VEVENT
UID:69ea4cbd57b87
DTSTART:20220420T090000Z
SEQUENCE:0
TRANSP:OPAQUE
DTEND:20220710T160000Z
LOCATION:Au macLYON\n
SUMMARY:Une histoire de famille
CLASS:PUBLIC
DTSTAMP:20260423T164549Z
END:VEVENT
END:VCALENDAR